BEGIN:VCALENDAR
VERSION:2.0
PRODID:-//Club Canin de L&#039;Iroise - ECPv6.15.20//NONSGML v1.0//EN
CALSCALE:GREGORIAN
METHOD:PUBLISH
X-ORIGINAL-URL:https://clubcaniroise.fr
X-WR-CALDESC:Évènements pour Club Canin de L&#039;Iroise
REFRESH-INTERVAL;VALUE=DURATION:PT1H
X-Robots-Tag:noindex
X-PUBLISHED-TTL:PT1H
BEGIN:VTIMEZONE
TZID:UTC
BEGIN:STANDARD
TZOFFSETFROM:+0000
TZOFFSETTO:+0000
TZNAME:UTC
DTSTART:20240101T000000
END:STANDARD
END:VTIMEZONE
BEGIN:VEVENT
DTSTART;TZID=UTC:20250307T200000
DTEND;TZID=UTC:20250307T213000
DTSTAMP:20260426T015024
CREATED:20250120T222027Z
LAST-MODIFIED:20250313T115537Z
UID:4857-1741377600-1741383000@clubcaniroise.fr
SUMMARY:Assemblée Générale 2025
DESCRIPTION:
URL:https://clubcaniroise.fr/evenement/assemblee-generale-2025/
CATEGORIES:Club
END:VEVENT
END:VCALENDAR